BEGIN:VCALENDAR
METHOD:PUBLISH
PRODID:Data::ICal 0.13
VERSION:2.0
BEGIN:VEVENT
DESCRIPTION:Join us on Thanksgiving for the 20th annual Wheeler Mission Drumstick Dash presented by Huntington Bank!\n\nThanksgiving morning run/walk is to help those experiencing homelessness and starts at 9:00AM in Broad Ripple (Indianapolis, IN)!\n\nAll proceeds provide meals and care for homeless men, women, and children in our community.\n\nThis event is a lot of fun for the whole family!\n\nFor more information visit https://www.drumstickdash.org/!\n\n\n\nBoth courses finish along Broad Ripple Avenue!\n\nThe main course distance is 4.44 miles. There is a short course (sponsored by Barnes &amp; Thornburg) opportunity of 2.75 miles. Both events are timed. The course is fairly flat with two water stations.\n\n[caption id=&quot;attachment_86684&quot; align=&quot;aligncenter&quot; width=&quot;784&quot;] Source: N/A / n/a[/caption]
DTSTAMP:20260424T164118Z
DTSTART;TZID=America/Indiana/Indianapolis:20221124T090000
DTEND;TZID=America/Indiana/Indianapolis:20221124T110000
LOCATION:
SUMMARY:Wheeler Mission Drumstick Dash 2022!
UID:86683-1669280400-1669287600
END:VEVENT
END:VCALENDAR
