BEGIN:VCALENDAR
METHOD:PUBLISH
PRODID:Data::ICal 0.13
VERSION:2.0
BEGIN:VEVENT
DESCRIPTION:The Fan Invitational Golf Outing Presented by Franciscan Health\nTICKETS ARE NO LONGER AVAILABLE FOR THIS EVENT\nCome one, come all... to The Fan Invitational Golf Outing – Presented by Franciscan Health on Thursday, August 7th!\nWe are teaming up with Franciscan Health to present 3 LIVE Broadcasts and 18 Holes from the beautiful Legends Golf Club in Franklin! \nGrab your buddies and your clubs and hit the course with us! \nLunch will be provided along with special drinks and activities throughout the course! \nTake on Kevin Bowen for the Longest Drive and mingle with The Fan&#039;s Jeff Rickard, Jake Query, JMV &amp; James Boyd! \nWhy Attend? \n\n\n\n\n 	\nIt’s for a GREAT CAUSE – Benefiting the Franciscan Health Foundation.\n 	See your favorite On-Air Talent as they broadcast LIVE\n 	Free Cancer Screenings onsite.\n 	Special Gift to commemorate your participation in the event.\n 	Score big on Silent Auction items - one-of-a-kind experiences, sports memorabilia and more.\n 	Hole in One Contest - WIN A GOLF CART from EA Carts!\n 	Great Excuse to take a Day off work or use up a sick day!\n 	Gain Bragging Rights *IF you beat Kevin Bowen at the Longest Drive!\n 	\nEarn Boasting Privileges for being Proactive about your health.\n 	\nFun Contests and Activations from our partners throughout the day.\n\n\n\n\n\n\n⛳ When: Thursday, August 7th, 10 AM *Registration begins at 8:30 AM\n\n\n\n\n\n\n⛳ Where: The Legends Golf Club\n\n\n\n\n\n\nBrought to you by Franciscan Health Cancer Center, comprehensive care for your extraordinary life.\n🔗 Comprehensive Cancer Care | Franciscan Health.\n\n\n\n&nbsp;\n\n&nbsp;\n\n\n\n\n\n\n\n\n\n\n\n\n\n\n\n\n\n\n\n&nbsp;\n\n&nbsp;\n\n\n&nbsp;
DTSTAMP:20260421T114822Z
DTSTART;TZID=America/Indiana/Indianapolis:20250807T100000
DTEND;TZID=America/Indiana/Indianapolis:20250807T160000
LOCATION:2555 Hurricane Rd.\, Franklin\, IN
SUMMARY:SOLD OUT: The Fan Invitational Golf Outing Presented By Franciscan Health
UID:561589-1754560800-1754582400
END:VEVENT
END:VCALENDAR
