BEGIN:VCALENDAR
METHOD:PUBLISH
PRODID:Data::ICal 0.13
VERSION:2.0
BEGIN:VEVENT
DESCRIPTION:Come hang with JMV at the next stop on his 2025 Tavern Tour! \nCatch him LIVE on Thursday, August 28th at Syd&#039;s Bar &amp; Grill in Noblesville.  He’ll be broadcasting from 3PM to 6PM—come grab a drink and hang out! \nCheck out Syd’s menu and more  www.sydsfinefoods.com
DTSTAMP:20260422T163310Z
DTSTART;TZID=America/Indiana/Indianapolis:20250828T150000
DTEND;TZID=America/Indiana/Indianapolis:20250828T180000
LOCATION:808 Logan Street\, Noblesville\, IN
SUMMARY:Join JMV at Syd&#8217;s Bar &amp; Grill During His 2025 Tavern Tour!
UID:602322-1756393200-1756404000
END:VEVENT
END:VCALENDAR
