BEGIN:VCALENDAR
METHOD:PUBLISH
PRODID:Data::ICal 0.13
VERSION:2.0
BEGIN:VEVENT
DESCRIPTION:Come see Jake Query as he takes his show &#039;Query &amp; Company&#039; LIVE to the American Dairy Association of Indiana&#039;s Dairy Bar on the OPENING DAY of the Indiana State Fair! 🐮\nJoin us on Main Street between 12PM-3PM on Friday, August 1st and celebrate the Hoosier dairy industry&#039;s State Fair traditions. 🥛 Stop by and enjoy Dairy Bar favorites—new AND old—like this year&#039;s featured Key Lime Pie milkshake or the Smoked Gouda’cue grilled cheese!\n\nThe Dairy Bar, located on Main Street across from the Indiana Farmers Coliseum, will be open during the fair Tuesday-Sunday from 9AM-9PM (closed Mondays).\n\n🧀 And don&#039;t miss the 1,600 lb. cheese sculpture being carved ON-SITE at the Ag/Hort building from August 1st-5th, with the official unveiling August 6th at 12 PM!\n\nFor a complete menu listing and more information about the Cheese Sculpture, visit WinnersDrinkMilk.com
DTSTAMP:20260420T142649Z
DTSTART;TZID=America/Indiana/Indianapolis:20250801T120000
DTEND;TZID=America/Indiana/Indianapolis:20250801T150000
LOCATION:Main Street\, opposite the Indiana Farmers Coliseum
SUMMARY:Jake Query LIVE from The Dairy Bar
UID:595447-1754049600-1754060400
END:VEVENT
END:VCALENDAR
