BEGIN:VCALENDAR
METHOD:PUBLISH
PRODID:Data::ICal 0.13
VERSION:2.0
BEGIN:VEVENT
DESCRIPTION:The FAN invites you to SHOW UP and SHOW OUT&nbsp;at this year’s&nbsp;Small Ball Tournament&nbsp;sponsored by&nbsp;Jack Daniels! 



Join Kevin Bowen this week at Joe’s Grille to take on the clock! Step up to the small ball basketball game and see if you can finish the night with the highest score. 



The winner of Night 1 and the winner of Event 2 will earn an invitation to the CHAMPIONSHIP on Monday March 23rd at Parks Place Pub for the OPPORTUNITY to play against each other to win $1,000 or go home. 



We have had epic showdowns in the past and want to see you if you&#039;ve got game! 



Details for all upcoming events are below: 




Event 1: Thursday, March 12th | 7pm-9pm | Joe&#039;s Grille - 16156 Spring Mill Road, Westfield



Event 2: Friday, March 13th | 7pm-9pm | Bulldog Bar and Lounge - 5380 N College Avenue, Indianapolis



CHAMPIONSHIP: Monday, March 23rd | 7pm-9pm | Parks Place Pub - 8594 E. 116th St, Ste 70, Fishers 




SEE YOU THERE! 



🏀🏀🏀🏀🏀🏀🏀🏀🏀🏀🏀🏀🏀🏀🏀🏀🏀
DTSTAMP:20260425T115554Z
DTSTART;TZID=America/Indiana/Indianapolis:20260312T190000
DTEND;TZID=America/Indiana/Indianapolis:20260312T210000
LOCATION:16156 Spring Mill Road\, Westfield\, IN
SUMMARY:Jack Daniels Small Ball Tournament with Kevin Bowen &#8211; 3/12
UID:723075-1773342000-1773349200
END:VEVENT
END:VCALENDAR
