BEGIN:VCALENDAR
METHOD:PUBLISH
PRODID:Data::ICal 0.13
VERSION:2.0
BEGIN:VEVENT
DESCRIPTION:Get tickets to see Santana with the Doobie Brothers, Sunday, June 21 at Ruoff Music Center! 




Get Tickets
DTSTAMP:20260421T123000Z
DTSTART;TZID=America/Indiana/Indianapolis:20260621T010054
DTEND;TZID=America/Indiana/Indianapolis:20260621T010054
LOCATION:
SUMMARY:Get Tickets: Santana w/ Doobie Brothers
UID:722339-1782003654-1782003654
END:VEVENT
END:VCALENDAR
