BEGIN:VCALENDAR
METHOD:PUBLISH
PRODID:Data::ICal 0.13
VERSION:2.0
BEGIN:VEVENT
DESCRIPTION:Get tickets to see Dave Matthews Band, Friday, June 26 at Ruoff Music Center! 




Get Tickets
DTSTAMP:20260423T100415Z
DTSTART;TZID=America/Indiana/Indianapolis:20260626T004257
DTEND;TZID=America/Indiana/Indianapolis:20260627T004257
LOCATION:
SUMMARY:Get Tickets: Dave Matthews Band
UID:722335-1782434577-1782520977
END:VEVENT
END:VCALENDAR
