BEGIN:VCALENDAR
METHOD:PUBLISH
PRODID:Data::ICal 0.13
VERSION:2.0
BEGIN:VEVENT
DESCRIPTION:Get tickets to see Brit Floyd, Wednesday, July 29th at Everwise Amphitheater! 




Get Tickets!
DTSTAMP:20260423T114210Z
DTSTART;TZID=America/Indiana/Indianapolis:20260729T200000
DTEND;TZID=America/Indiana/Indianapolis:20260729T220000
LOCATION:
SUMMARY:Get Tickets: Britt Floyd
UID:718083-1785355200-1785362400
END:VEVENT
END:VCALENDAR
