BEGIN:VCALENDAR
METHOD:PUBLISH
PRODID:Data::ICal 0.13
VERSION:2.0
BEGIN:VEVENT
DESCRIPTION:BUD LIGHT BLUE FRIDAYS ARE BACK! 🏈\nAll Colts season long, JMV will be on location broadcasting LIVE from 3PM–6PM on Fridays to gear up for upcoming Colts games. And if you heard that we are going to be GIVING AWAY TICKETS, you heard right!\n\nJoin us at Back 9 Golf &amp; Entertainment in Indianapolis THIS FRIDAY for your chance to win! 🍻\n\n\nFuture events:\nOctober 25th - Sam&#039;s Silver Circle - 1102 Fletcher Avenue, Indianapolis\n\nNovember 1st - The Depot - 240 W Mill Street, Greenfield\n\nNovember 8th - Kilroy&#039;s Downtown - 201 S Meridian Street, Indianapolis\n\nNovember 15th - Whiskey Business South - 5220 E Southport Road, Suite A, Indianapolis\n\nNovember 22nd - Checkered Flag Tavern - 5725 W Morris Street, Indianapolis\n\nNovember 27th - Brother&#039;s North - 910 Broad Ripple Avenue, Indianapolis\n\nDecember 13th - The Slippery Noodle - 372 S Meridian Street, Indianapolis\n\nDecember 20th - Coaches Tavern - 28 S Pennsylvania Street, Indianapolis\n\nDecember 27th - Tom&#039;s Watch Bar - COMING SOON\n\nJanuary 3rd - Twin Peaks (Greenwood) - 600 Greenwood Park Drive, Greenwood
DTSTAMP:20260421T163424Z
DTSTART;TZID=America/Indiana/Indianapolis:20241018T150000
DTEND;TZID=America/Indiana/Indianapolis:20241018T180000
LOCATION:1415 Drover Street\, Indianapolis
SUMMARY:Bud Light Blue Fridays with JMV &#8211; 10/18
UID:410694-1729263600-1729274400
END:VEVENT
END:VCALENDAR
